BEGIN:VCALENDAR
VERSION:2.0
PRODID:-//Everything Dolls &amp; Toys - ECPv6.15.20//NONSGML v1.0//EN
CALSCALE:GREGORIAN
METHOD:PUBLISH
X-WR-CALNAME:Everything Dolls &amp; Toys
X-ORIGINAL-URL:https://everythingdollsandtoys.com
X-WR-CALDESC:Events for Everything Dolls &amp; Toys
REFRESH-INTERVAL;VALUE=DURATION:PT1H
X-Robots-Tag:noindex
X-PUBLISHED-TTL:PT1H
BEGIN:VTIMEZONE
TZID:America/Los_Angeles
BEGIN:DAYLIGHT
TZOFFSETFROM:-0800
TZOFFSETTO:-0700
TZNAME:PDT
DTSTART:20250309T100000
END:DAYLIGHT
BEGIN:STANDARD
TZOFFSETFROM:-0700
TZOFFSETTO:-0800
TZNAME:PST
DTSTART:20251102T090000
END:STANDARD
BEGIN:DAYLIGHT
TZOFFSETFROM:-0800
TZOFFSETTO:-0700
TZNAME:PDT
DTSTART:20260308T100000
END:DAYLIGHT
BEGIN:STANDARD
TZOFFSETFROM:-0700
TZOFFSETTO:-0800
TZNAME:PST
DTSTART:20261101T090000
END:STANDARD
BEGIN:DAYLIGHT
TZOFFSETFROM:-0800
TZOFFSETTO:-0700
TZNAME:PDT
DTSTART:20270314T100000
END:DAYLIGHT
BEGIN:STANDARD
TZOFFSETFROM:-0700
TZOFFSETTO:-0800
TZNAME:PST
DTSTART:20271107T090000
END:STANDARD
END:VTIMEZONE
BEGIN:VEVENT
DTSTART;TZID=America/Los_Angeles:20260502T100000
DTEND;TZID=America/Los_Angeles:20260502T150000
DTSTAMP:20260421T005901
CREATED:20260109T154048Z
LAST-MODIFIED:20260218T210130Z
UID:10000006-1777716000-1777734000@everythingdollsandtoys.com
SUMMARY:World Doll Day Shows – Pleasanton\, California
DESCRIPTION:Join fellow doll and toy enthusiasts for a fabulous day of Shopping and Doll Fun at a World Doll Day Show.  \n\n\n\nWe specialize in creating fun\, family-friendly events\, that offer collectors and shoppers the chance to see\, learn\, touch\, and discuss\, dolls of interest in every category.  \n\n\n\nWorld Doll Day Shows feature top vendors selling Vintage\, Contemporary\, Artist and Antique Dolls\, Bears\, Toys\, Memorabilia\, and so much more. Youn never know what you are going to find at a World Doll Day Show\, or who you might meet. \n\n\n\nShoppers also have the chance at winning wonderful Door Prizes\, Raffle prizes that support local charities and enjoying a day networking and visiting with top Doll Collectors and Enthusiasts from the region\, while doing good for the community through raffle tickets and donations.  \n\n\n\nSign up today to be a vendor and make plans to attend a World Doll Day Show in your area.  \n\n\n\nAttaching the contract for Phoenix\, Sacramento\, Pleasanton\, and the Image for Sacramento.   \n\n\n\n\n\nSeller contract\n\n\n\nSponsorship
URL:https://everythingdollsandtoys.com/event/world-doll-day-shows-pleasanton-california/
LOCATION:Pleasanton Marriott\, 11950 Dublin Canyon Rd.\, Pleasanton\, CA 94588\, 11950 Dublin Canyon Rd.\, California\, 94588\, United States
ATTACH;FMTTYPE=image/jpeg:https://everythingdollsandtoys.com/wp-content/uploads/2026/01/NEW-Pleasanton-2026-.jpg
END:VEVENT
BEGIN:VEVENT
DTSTART;TZID=America/Los_Angeles:20260727T150000
DTEND;TZID=America/Los_Angeles:20260730T150000
DTSTAMP:20260421T005901
CREATED:20260217T164809Z
LAST-MODIFIED:20260217T165005Z
UID:10000008-1785164400-1785423600@everythingdollsandtoys.com
SUMMARY:New Orleans Doll Dreamers Market
DESCRIPTION:Step into a world of fabulous shopping for Contemporary\, Vintage\, Antique\, and Artist Dolls and Toys\, Doll Accessories and clothing\, Doll House treasure\, and so much more!  \n\n\n\nJoin us for 4 fabulous days at the Astor Crowne Plaza\, for the best Doll Fun ever!  \n\n\n\nAttendees will have a chance at wonderful Raffles\, Door Prizes\, and discounts for featured items each day of the week.  Don’t miss this National Event filled with top sellers from throughout the United States.  It’s a not to miss event for doll enthusiasts everywhere!  \n\n\n\nAdmission is $20 for 4 days or $10 for 1 day.  
URL:https://everythingdollsandtoys.com/event/new-orleans-doll-dreamers-market/
LOCATION:Astor Crowen Plaza Hotel \, 739 Canal Street\, New Orleans\, Louisiana\, 70130\, United States
ATTACH;FMTTYPE=image/jpeg:https://everythingdollsandtoys.com/wp-content/uploads/2026/02/NEW-NOLA-Main-Page-2026-1.jpg
END:VEVENT
END:VCALENDAR